BEGIN:VCALENDAR
VERSION:2.0
PRODID:Events Booking
BEGIN:VEVENT
UID:69e9ebeeb4e3a
SUMMARY:JORNADA DE PSICOLOGIA SOCIAL DA FIBRA
DESCRIPTION:Como disciplina que se propõe estudar a interrelação entre o
  comportamento individual e o funcionamento social em seu sentido mais amp
 lo\, a Psicologia Social no Brasil vem ganhando importância não somente 
 em seu sentido institucional como disciplina universitária nas graduaçõ
 es e pós-graduações dos cursos de psicologia mas\, sobretudo\, como uma
  forma de intervenção prática a respeito da sociedade brasileira.
 Tal
 vez o exemplo mais candente desse fato seja o franco crescimento – em im
 portância e produção – da Associação Brasileira de Psicologia Socia
 l (ABRAPSO) que\, desde 1980\, vem se constituindo como um espaço fundame
 ntal de promoção de intervenções fortemente assentadas em um posiciona
 mento crítico acerca de composições prático-discursivas que favorecem 
 um viés naturalizante e a-histórico no processo de produção de conheci
 mento do campo Psi.
 Atentos a essas importantes questões e objetivando 
 contribuir para o aprofundamento de um amplo debate que leve em considera
 ção o contexto amazônico na produção de saberes em Psicologia Social\
 , e em estrita observância ao artigo IV do Regimento Geral da Instituiç
 ão (ver Título II – Dos Objetivos Institucionais)\, propomos a Jornada
  de Psicologia Social do Centro Universitário Fibra&nbsp\;como uma ativid
 ade de promoção da articulação entre discentes da graduação em Psico
 logia e outros cursos de Ciências Humanas da nossa instituição.
 Nosso
  objetivo é promover não somente a maior visibilidade das produções di
 scentes em Psicologia Social por meio da exposição de painéis e debates
  em mesa-redonda dos trabalhos realizados ou em realização no curso\, co
 mo também criar um espaço democrático de discussão teórica e prática
  com profissionais\, estudantes de outras IES da nossa região e represent
 antes dos movimentos sociais.
 Em nosso primeiro encontro\, sugerimos o t
 ema Psicologia Social e Movimentos Sociais na Amazônia como forma de enod
 amento das discussões que ocorrerão nos dias 18 e 19 de junho de 2024 no
  auditório do Centro Universitário Fibra.
 &nbsp\;
 RELAÇÃO DE TRABA
 LHOS SELECIONADOS PARA A JORNADA
 1. RACISMO CLIMÁTICO E ANSIEDADE CLIM
 ÁTICA NA REGIÃO AMAZÔNICA: IMPACTOS SOBRE POVOS INDÍGENAS\, QUILOMBOLA
 S E RIBEIRINHOS. Ana Kely Santos\, Cate Guimarães e Ronildo Deividy Costa
  da Silva.
 2. OS EFEITOS NEGATIVOS DA JORNADA DE TRABALHO DE 8 HORAS NA 
 SAÚDE MENTAL DO TRABALHADOR CLT: CONSIDERAÇÕES A PARTIR DAPSICOLOGIA SO
 CIAL.Clara Maria Alvez Gimenes\, Gabriela Lauzid Kleinlein Lins e&nbsp\;La
 ura Soares Martins Nogueira.
 3. REDPILL - ESTILO DE VIDA: A EXPRESSÃO S
 OCIAL DE UMA RESPOSTA À CONTEMPORANEIDADE? Aline Ariana Freitas da Silva\
 , Bruna Rodrigues dos Santos\, Maíra Cruz Maia de Souza\, Mateus Barbosa 
 de Souzsa\, Stephane Machado Caxias de Sousa e Ronildo Deividy Costa da Si
 lva.
 4. DO PEPINO A PROSTITUIÇÃO: UMA ANÁLISE DA JORNADA DA SEXUALIDA
 DE FEMININA DO FILME “POBRES CRIATURAS”. Bianca Caldas da Silva Mendes
  e Ronildo Deividy Costa da Silva.
 5. A INFLUÊNCIA DO MOVIMENTO DO RAP 
 NA CONSTRUÇÃO DE UMA IDENTIDADE PERIFÉRICA BELENENSE: REPRESENTATIVIDAD
 E E RESISTÊNCIA. Glenda Maria Coelho Nobre\, Renatta Vale Carvalho de Sou
 za e Ronildo Deividy Costa da Silva.
DTSTART:20240618T120000Z
DTEND:20240619T233000Z
DTSTAMP:20240412T170057Z
ORGANIZER;CN=Portal de Eventos - Centro Universitário Fibra:MAILTO:eventos
 @fibrapara.edu.br
END:VEVENT
END:VCALENDAR