BEGIN:VCALENDAR
VERSION:2.0
PRODID:Events Booking
BEGIN:VEVENT
UID:69ea1b3ca8c14
SUMMARY:Jornada de Psicologia - Noite 18
DESCRIPTION:Hora: 19:30 às 20:30h
 Mesa-redonda: Psicologia e Serviço So
 cial: lutas e compromissos sociais que unem e fortalecem as categorias.
 
 Convidados:
 - Prof. Ms. Renato Soares. Assistente Social. Mestre em Pol
 ítica Social pelo Programa de Pós-Graduação em Política Social (Unive
 rsidade de Brasília - UnB).
 - Convidado da Psicologia - a confirmar
 M
 ediador: Prof. Dr. Guilherme Wady. Psicólogo (Secretaria Municipal de Sa
 úde e Meio Ambiente – SESMA). Coordenador do Curso de Psicologia (FIBRA
 ).
LOCATION:Av. Gentil Bittencourt\, 1144.
DTSTART:20240618T223000Z
DTEND:20240618T233000Z
DTSTAMP:20240412T170057Z
ORGANIZER;CN=Portal de Eventos - Centro Universitário Fibra:MAILTO:eventos
 @fibrapara.edu.br
GEO:-1.455183;-48.482397
X-APPLE-STRUCTURED-LOCATION;VALUE=URI;X-ADDRESS=Av. Gentil Bittencourt\, 11
 44.;X-APPLE-RADIUS=72;X-TITLE=Centro Universitário Fibra:-1.455183;-48.48
 2397
END:VEVENT
END:VCALENDAR