BEGIN:VCALENDAR
VERSION:2.0
PRODID:Events Booking
BEGIN:VEVENT
UID:69e930ca49f97
SUMMARY:IX Encontro de Estudantes de História
DESCRIPTION:O Encontro de Estudantes de História tem como objetivo integra
 r turmas e disciplinas\, no sentido de compartilhar debates e produções 
 construídas por docentes e discentes. Nessa edição\, o evento tem como 
 tema: “História\, sistemas de saúde e epidemias no Brasil”\, que foi
  escolhido em virtude da atualidade das discussões e da necessidade de ma
 ior compreensão sobre a relação entre história\, política\, saúde e 
 desigualdades sociais.
 PROGRAMAÇÃO
  15/05/2023 (Segunda-feira)19H Ap
 resentação dos trabalhos acadêmicos (Supervisão Prof. Dr. João Antôn
 io Lacerda e Prof. Me. Aldo Sampaio).16-05-2023 (Terça-feira)18H Abertura
  do evento - Atração cultural19H Palestra: &nbsp\;História da saúde e 
 das doenças: fontes e possibilidades de pesquisa. Profa. Dra. Elane Crist
 ina Rodrigues Gomes20H Palestra: Profa. Dra. Patrícia Cavalcante21H Pales
 tra: Profa. Dra. Flavia Cristina Silveira Lemos Pandemias e Saúde Mental1
 7-05-2023 (Quarta-feira)18H – Atração cultural19H Palestra Profa. Dra.
  Ana Carine21H Palestra: História\, epidemias e atitudes diante da morte 
 e dos mortos. Profa. Ma. Érika Amorim da Silva.
LOCATION:Av. Gentil Bittencourt\, 1144.
DTSTART:20230515T220000Z
DTEND:20230518T000000Z
DTSTAMP:20230511T021112Z
ORGANIZER;CN=Portal de Eventos - Centro Universitário Fibra:MAILTO:eventos
 @fibrapara.edu.br
GEO:-1.455183;-48.482397
X-APPLE-STRUCTURED-LOCATION;VALUE=URI;X-ADDRESS=Av. Gentil Bittencourt\, 11
 44.;X-APPLE-RADIUS=72;X-TITLE=Centro Universitário Fibra:-1.455183;-48.48
 2397
END:VEVENT
END:VCALENDAR