BEGIN:VCALENDAR
VERSION:2.0
PRODID:Events Booking
BEGIN:VEVENT
UID:69eca790a024a
SUMMARY:IV MOSTRA DE EXTENSÃO DA CURRICULARIZAÇÃO - Dia 30
DESCRIPTION:
 
 
 Horário
 Semestre
 Atividade
 Foco
 Responsáveis
 
 
 
 
 
 Manhã
 4º M\, 6º\, 8º
 Apresentação dos Projetos
 
 Debate com profissionais e egressos que utilizam tecnologia (IA\, disposit
 ivos) na Enfermagem.
 Todos os Professores
 
 
 Manhã
 4º M\, 6º\,
  8º
 Apresentação dos Projetos
 Exposição interativa dos melhores p
 rojetos de todos os semestres e votação do público.
 Todos os Professo
 res
 
 
 Manhã
 4º M\, 6º\, 8º
 Apresentação dos Projetos
 Rec
 onhecimento e anúncio dos projetos de maior destaque de cada semestre.
 
 Todos os Professores
 
 
 
DTSTART:20251030T110000Z
DTEND:20251030T150000Z
DTSTAMP:20251008T014525Z
ORGANIZER;CN=Portal de Eventos - Centro Universitário Fibra:MAILTO:eventos
 @fibrapara.edu.br
END:VEVENT
END:VCALENDAR