BEGIN:VCALENDAR
VERSION:2.0
PRODID:Events Booking
BEGIN:VEVENT
UID:69eca77ba4b81
SUMMARY:IV MOSTRA DE EXTENSÃO DA CURRICULARIZAÇÃO - Dia 29
DESCRIPTION:
 
 
 Horário
 Semestre
 Atividade
 Foco
 Responsáveis
 
 
 
 
 
 Manhã
 4º M
 Apresentação dos Projetos do 4º Semestr
 e (Manhã)
 Avaliação e exposição dos produtos focados em Educação 
 em Saúde e na Saúde.
 Débora Nery
 
 
 Manhã
 6º
 Apresentaçã
 o dos Projetos
 Avaliação e exposição dos projetos de Inovação em P
 rocesso de Trabalho e Gestão (ex.: Fluxos com IA\, Apps de Escala).
 Nat
 halie e Socorro
 
 
 Manhã
 8º
 Apresentação dos Projetos
 Avali
 ação e exposição de protótipos avançados (Robótica\, Impressão 3D\
 , Realidade Virtual Complexa).
 Valquíria e Fábio
 
 
 
LOCATION:Av. Gentil Bittencourt\, 1144.
DTSTART:20251029T110000Z
DTEND:20251029T150000Z
DTSTAMP:20251008T014525Z
ORGANIZER;CN=Portal de Eventos - Centro Universitário Fibra:MAILTO:eventos
 @fibrapara.edu.br
GEO:-1.455183;-48.482397
X-APPLE-STRUCTURED-LOCATION;VALUE=URI;X-ADDRESS=Av. Gentil Bittencourt\, 11
 44.;X-APPLE-RADIUS=72;X-TITLE=Centro Universitário Fibra:-1.455183;-48.48
 2397
END:VEVENT
END:VCALENDAR