BEGIN:VCALENDAR
VERSION:2.0
PRODID:Events Booking
BEGIN:VEVENT
UID:69e8d65c00710
SUMMARY:Minicurso de Interpretação de Exames Laboratoriais
DESCRIPTION:Palestrante:
 Msc. Luis Edilson de Azevedo Ferreira – Farmac
 êutico. Membro Titular do Núcleo de Segurança do Paciente (NSP) do Hosp
 ital Geral de Belém (HGeBelém) e Docente no Ensino Superior.
 Possui Ba
 charelado em Ciências Farmacêuticas (UFPA-2009)\, Especialização em Do
 enças Tropicais (UFPA-2010)\, Habilitação em Bioquímica (Análises Cl
 ínicas / UFPA-2011)\, Mestrado em Patologia das Doenças Tropicais do Nú
 cleo de Medicina Tropical (UFPA-2012)\, Membro Titular do Núcleo de Segur
 ança do Paciente (NSP) do Hospital Geral de Belém (HGeBelém) e docente 
 no Ensino Superior. &nbsp\;
 &nbsp\;
 Inscrição Solidária:&nbsp\;
 1
  kg de alimento não perecível ou 1 livro de desenho infantil (para color
 ir) entregues no momento do check-in.
LOCATION:Av. Gentil Bittencourt\, 1144.
DTSTART:20221017T170000Z
DTEND:20221017T190000Z
DTSTAMP:20221006T221732Z
ORGANIZER;CN=Portal de Eventos - Centro Universitário Fibra:MAILTO:eventos
 @fibrapara.edu.br
GEO:-1.455183;-48.482397
X-APPLE-STRUCTURED-LOCATION;VALUE=URI;X-ADDRESS=Av. Gentil Bittencourt\, 11
 44.;X-APPLE-RADIUS=72;X-TITLE=Centro Universitário Fibra:-1.455183;-48.48
 2397
END:VEVENT
END:VCALENDAR