BEGIN:VCALENDAR
VERSION:2.0
PRODID:Events Booking
BEGIN:VEVENT
UID:69e9ebeec9ca0
SUMMARY:CURSO DE INSTRUMENTAÇÃO CIRÚRGICA
DESCRIPTION:Capacitar profissionais e estudantes da área da saúde\, na t
 écnica da instrumentalização cirúrgica\, com foco na segurança do pac
 iente e na organização dos materiais.
 O curso iniciará com pelo menos
  20 alunos.
 
LOCATION:Av. Gentil Bittencourt\, 1144.
DTSTART:20240129T110000Z
DTEND:20240130T010000Z
DTSTAMP:20240123T213911Z
ORGANIZER;CN=Portal de Eventos - Centro Universitário Fibra:MAILTO:eventos
 @fibrapara.edu.br
GEO:-1.455183;-48.482397
X-APPLE-STRUCTURED-LOCATION;VALUE=URI;X-ADDRESS=Av. Gentil Bittencourt\, 11
 44.;X-APPLE-RADIUS=72;X-TITLE=Centro Universitário Fibra:-1.455183;-48.48
 2397
END:VEVENT
END:VCALENDAR