BEGIN:VCALENDAR
VERSION:2.0
PRODID:Events Booking
BEGIN:VEVENT
UID:69e9fa1fb6313
SUMMARY:Inovação e desenvolvimento: os incentivos estaduais e nacionais
DESCRIPTION:Lançamento do Livro “Política Fiscal e Inovação no Brasil
 : os incentivos da Lei do Bem e do FNDCT”\, de autoria do Prof. Luiz Fel
 ipe da Fonseca Pereira.
 PALESTRANTES:
 Luiz Felipe da Fonseca Pereira 
 – Advogado. Doutorando em Direito Universidade Federal do Pará – UFPA
  em modelo sanduíche com a Universidade de Coimbra – Portugal. Mestre e
 m Direito pela UFPA. Graduado em Direito pela UFPA com período sanduíche
  na Faculdade de Direito da Universidade de Coimbra - Portugal. Professor 
 de Direito Público e Digital na UFPA e FIBRA. Consultor no Projeto Elos d
 o Ministério da Ciência\, Tecnologia e Inovações. Vice-líder do Grupo
  de Pesquisa Financiando Direitos (CNPq).
 Maria Trindade – Servidora P
 ública Federal\, docente da Universidade Federal Rural da Amazônia - UFR
 A. Biológa com Mestrado em Biodiversidade Vegetal e Doutorado em Ciência
 s Agrárias. Atua na área de Biotecnologia\, cedida para a gestão estadu
 al coordena o Programa Estadual de Inovação - StartUP Pará e o Núcleo 
 de Planejamento\, ambos na Secretaria de Estado de Ciência\, Tecnologia e
  Educação Superior\, Profissional e Tecnológica (SECTET).
 MEDIADORA:
 
 Luma Cavaleiro de Macêdo Scaff – Advogada. Doutora em Direito Finance
 iro pela Universidade de São Paulo. Mestre em Direitos Humanos pela Unive
 rsidade de São Paulo. Graduação em Direito pela Universidade Federal do
  Pará (2005). Professora da graduação e pós-graduação (mestrado e do
 utorado acadêmico – PPGD e mestrado profissional – PPGDDA em Direito)
  da Universidade Federal do Pará. Ex-pesquisadora bolsista da Fundação 
 Ford. Membro da Rede de Pesquisa Junction Amazonian Biodiversity Units Res
 earch Network Program (JAMBU-RNP). Líder do Grupo de Pesquisa Financiando
  Direitos (CNPq).
 Obs.: O Valor do Livro será 100\,00 reais e 1kg de al
 imento não perecível para doação as vítimas do desastre climático no
  Rio Grande do Sul. Os alimentos serão entregues no posto de coleta da cr
 uz vermelha na instituição de ensino FIBRA.
 
LOCATION:Av. Gentil Bittencourt\, 1144.
DTSTART:20240527T210000Z
DTEND:20240527T230000Z
DTSTAMP:20240520T214216Z
ORGANIZER;CN=Portal de Eventos - Centro Universitário Fibra:MAILTO:eventos
 @fibrapara.edu.br
GEO:-1.455183;-48.482397
X-APPLE-STRUCTURED-LOCATION;VALUE=URI;X-ADDRESS=Av. Gentil Bittencourt\, 11
 44.;X-APPLE-RADIUS=72;X-TITLE=Centro Universitário Fibra:-1.455183;-48.48
 2397
END:VEVENT
END:VCALENDAR