BEGIN:VCALENDAR
VERSION:2.0
PRODID:Events Booking
BEGIN:VEVENT
UID:69e9fd65c1663
SUMMARY:Curso de Extensão em Injetáveis
DESCRIPTION:O curso permitirá ao aluno aprimorar seus conhecimentos e suas
  habilidades na execução do preparo de medicamentos e das técnicas de a
 dministração de injetáveis de&nbsp\;maneira a assegurar os princípios 
 de esterilidade\, assistência livre de riscos e&nbsp\;segura ao paciente 
 atendido.O curso tem como objetivos aprimorar o conhecimento sobre injetá
 veis\; mostrar as técnicas de cada uma das vias de administração que en
 globam os injetáveis\; entender e aplicar as particularidades de cada uma
  das vias\, sempre visando\, acima de tudo\, à segurança do paciente e d
 o profissional\; e entender a importância da legislação e da ética na 
 prática de injetáveis.
 Curso aberto ao público externo.
 Alerta de B
 iossegurança:- O curso só é permitido para maiores de 18 anos\;- O alun
 o deve estar de calça comprida e Sapatos fechados (tênis ou bota\, não 
 pode ser sapatilha)\;- Portar o jaleco\;- Unhas curtas\;- Cabelos presos\;
 - Evite acessórios.
LOCATION:Av. Gentil Bittencourt\, 1144.
DTSTART:20230130T110000Z
DTEND:20230131T150000Z
DTSTAMP:20230123T144320Z
ORGANIZER;CN=Portal de Eventos - Centro Universitário Fibra:MAILTO:eventos
 @fibrapara.edu.br
GEO:-1.455183;-48.482397
X-APPLE-STRUCTURED-LOCATION;VALUE=URI;X-ADDRESS=Av. Gentil Bittencourt\, 11
 44.;X-APPLE-RADIUS=72;X-TITLE=Centro Universitário Fibra:-1.455183;-48.48
 2397
END:VEVENT
END:VCALENDAR