BEGIN:VCALENDAR
VERSION:2.0
PRODID:Events Booking
BEGIN:VEVENT
UID:69e930afe6f20
SUMMARY:Curso de Inglês Básico - Módulo 1
DESCRIPTION:CURSO DE INGLÊS BÁSICO - SEGUNDA TURMA - PRIMEIRO MÓDULO
 O
  inglês vem recebendo notoriedade cada vez maior como língua franca. Emb
 ora outros idiomas também tenham adquirido maior importância nos último
 s anos\, a língua inglesa continua sendo aquela que tem a preferência do
  Mundo em vários campos de atividades\, como congressos\, publicações\,
  informação\, tecnologia etc. Assim\, a oferta de um curso de língua in
 glesa fala por si só. O Centro Universitário Fibra\, sempre antenado com
  os rumos da vida global atual\, está oferecendo a todos os seus alunos O
  Curso de Extensão Inglês Básico\, com material atualizado e aulas din
 âmicas\, sempre buscando priorizar as premissas do método comunicativo.
 
 O&nbsp\;Curso de Inglês Básico&nbsp\;terá início no dia 07 de agosto
 \, e acontecerá às quartas e sextas\, desde que seja alcançado o númer
 o mínimo de inscrições\, 15.
 A taxa única de R$200\,00 (que pode ser
  parcelada no cartão de crédito) é referente às aulas de agosto\, sete
 mbro\, outubro e novembro. Totalizando 70 horas de aula no segundo módulo
 .
 
LOCATION:Av. Gentil Bittencourt\, 1144.
DTSTART:20240807T193000Z
DTEND:20240831T230000Z
DTSTAMP:20240222T215619Z
ORGANIZER;CN=Portal de Eventos - Centro Universitário Fibra:MAILTO:eventos
 @fibrapara.edu.br
GEO:-1.455183;-48.482397
X-APPLE-STRUCTURED-LOCATION;VALUE=URI;X-ADDRESS=Av. Gentil Bittencourt\, 11
 44.;X-APPLE-RADIUS=72;X-TITLE=Centro Universitário Fibra:-1.455183;-48.48
 2397
END:VEVENT
END:VCALENDAR