BEGIN:VCALENDAR
VERSION:2.0
PRODID:Events Booking
BEGIN:VEVENT
UID:69e9307698acf
SUMMARY:Curso de Inglês Básico - Módulo 1
DESCRIPTION:O inglês vem recebendo notoriedade cada vez maior como língua
  franca. Embora outros idiomas também tenham adquirido maior importância
  nos últimos anos\, a língua inglesa continua sendo aquela que tem a pre
 ferência do mundo em vários campos de atividades\, como congressos\, pub
 licações\, informação\, tecnologia etc. Assim\, a oferta do&nbsp\;Curs
 o de Inglês Básico&nbsp\;fala por si só. O Centro Universitário Fibra\
 , sempre antenado com os rumos da vida global atual\, está oferecendo com
  exclusividade aos seus alunos\, um curso de inglês com material atualiza
 do e aulas dinâmicas\, buscando sempre priorizar as premissas do método 
 comunicativo.
 &nbsp\;
 O&nbsp\;Curso de Inglês Básico&nbsp\;terá in
 ício no dia 12 de março\, e acontecerá às terças e quintas\, desde qu
 e seja alcançado o número mínimo de inscrições\, 15.
 A taxa única 
 de R$200\,00 (que pode ser parcelada no cartão de crédito) é referente 
 às aulas de março\, abril\, maio e junho. Totalizando 50 horas de aula n
 o primeiro módulo.
 
LOCATION:Av. Gentil Bittencourt\, 1144.
DTSTART:20240312T193000Z
DTEND:20240328T230000Z
DTSTAMP:20240222T215619Z
ORGANIZER;CN=Portal de Eventos - Centro Universitário Fibra:MAILTO:eventos
 @fibrapara.edu.br
GEO:-1.455183;-48.482397
X-APPLE-STRUCTURED-LOCATION;VALUE=URI;X-ADDRESS=Av. Gentil Bittencourt\, 11
 44.;X-APPLE-RADIUS=72;X-TITLE=Centro Universitário Fibra:-1.455183;-48.48
 2397
END:VEVENT
END:VCALENDAR