BEGIN:VCALENDAR
VERSION:2.0
PRODID:Events Booking
BEGIN:VEVENT
UID:69e9ebe2580b7
SUMMARY:A importância do registro profissional para o Administrador
DESCRIPTION:A importância do registro profissional para o Administrador: g
 arantia de credibilidade e valorização da profissão
 
LOCATION:Av. Gentil Bittencourt\, 1144.
DTSTART:20250326T220000Z
DTEND:20250327T000000Z
DTSTAMP:20250314T145334Z
ORGANIZER;CN=Portal de Eventos - Centro Universitário Fibra:MAILTO:eventos
 @fibrapara.edu.br
GEO:-1.455183;-48.482397
X-APPLE-STRUCTURED-LOCATION;VALUE=URI;X-ADDRESS=Av. Gentil Bittencourt\, 11
 44.;X-APPLE-RADIUS=72;X-TITLE=Centro Universitário Fibra:-1.455183;-48.48
 2397
END:VEVENT
END:VCALENDAR