BEGIN:VCALENDAR
VERSION:2.0
PRODID:Events Booking
BEGIN:VEVENT
UID:69e9fefccea92
SUMMARY:Imersão em saúde pública: preparação estratégica para o Está
 gio I nivelamento técnico-científico - Turmas EN09MA e EN09MB 
DESCRIPTION:
LOCATION:Av. Gentil Bittencourt\, 1144.
DTSTART:20260127T110000Z
DTEND:20260213T030000Z
DTSTAMP:20260119T145844Z
ORGANIZER;CN=Portal de Eventos - Centro Universitário Fibra:MAILTO:eventos
 @fibrapara.edu.br
GEO:-1.455183;-48.482397
X-APPLE-STRUCTURED-LOCATION;VALUE=URI;X-ADDRESS=Av. Gentil Bittencourt\, 11
 44.;X-APPLE-RADIUS=72;X-TITLE=Centro Universitário Fibra:-1.455183;-48.48
 2397
END:VEVENT
END:VCALENDAR