BEGIN:VCALENDAR
VERSION:2.0
PRODID:Events Booking
BEGIN:VEVENT
UID:69e9a37d96886
SUMMARY:XV ENCONTRO DAS LICENCIATURAS
DESCRIPTION:EDUCAÇÃO INCLUSIVA E DIVERSIDADE: FORMANDO PROFESSORES PARA U
 M FUTURO DE EQUIDADE
 &nbsp\;
 &nbsp\;19h - Mesa Redonda: Câmara da Plu
 riversidade\, Inclusão e Direitos HumanosParticipantes: Tatiana Maia\, Ma
 rcos Lima e Alberto Damasceno
 20h15 – Mesa-redonda: Inclusão na Educa
 ção: Raça\, Gênero e Deficiência
LOCATION:Av. Gentil Bittencourt\, 1144.
DTSTART:20241118T220000Z
DTEND:20241119T010000Z
DTSTAMP:20241107T194239Z
ORGANIZER;CN=Portal de Eventos - Centro Universitário Fibra:MAILTO:eventos
 @fibrapara.edu.br
GEO:-1.455183;-48.482397
X-APPLE-STRUCTURED-LOCATION;VALUE=URI;X-ADDRESS=Av. Gentil Bittencourt\, 11
 44.;X-APPLE-RADIUS=72;X-TITLE=Centro Universitário Fibra:-1.455183;-48.48
 2397
END:VEVENT
END:VCALENDAR