BEGIN:VCALENDAR
VERSION:2.0
PRODID:Events Booking
BEGIN:VEVENT
UID:69e9a41cc6711
SUMMARY:Evento em Alusão ao Dia da Consciência Negra
DESCRIPTION:Evento em Alusão ao Dia da Consciência Negra
 &nbsp\;
 &nbs
 p\;19h – Palestra: Na construção de uma Educação AntirracistaPalestr
 ante: Profa. Dra. Sônia Albuquerque
LOCATION:Av. Gentil Bittencourt\, 1144.
DTSTART:20241121T220000Z
DTEND:20241121T230000Z
DTSTAMP:20241107T194239Z
ORGANIZER;CN=Portal de Eventos - Centro Universitário Fibra:MAILTO:eventos
 @fibrapara.edu.br
GEO:-1.455183;-48.482397
X-APPLE-STRUCTURED-LOCATION;VALUE=URI;X-ADDRESS=Av. Gentil Bittencourt\, 11
 44.;X-APPLE-RADIUS=72;X-TITLE=Centro Universitário Fibra:-1.455183;-48.48
 2397
END:VEVENT
END:VCALENDAR