BEGIN:VCALENDAR
VERSION:2.0
PRODID:Events Booking
BEGIN:VEVENT
UID:69e9a2d0dfb90
SUMMARY:X ENCONTRO DE LITERATURA AMAZÔNICA
DESCRIPTION:X ENCONTRO DE LITERATURA AMAZÔNICA
 Programação:
 19h – 
 Palestra: A Poética de Benedicto MonteiroPalestrante: Wanda Monteiro
 Ev
 ento em Alusão ao Dia da Consciência Negra19h – Palestra: Na construç
 ão de uma Educação AntirracistaPalestrante: Profa. Dra. Sônia Albuquer
 que
 19h40 – Palestra: Benedito Monteiro\, o contador de Histórias Ama
 zônidasPalestrante: profa. Ma. Laura Neila
 20h30 ComunicaçõesAnalice 
 Almeida da Silva – Carro dos MilagresDiellen Couto dos Santos e Hellen F
 reire da Conceição – TranstempoRubia Luz de Lima – Minossauro
 21H 
 – Performance - Roseana Lima da Silva – Declamação de poemas
LOCATION:Av. Gentil Bittencourt\, 1144.
DTSTART:20241121T220000Z
DTEND:20241122T010000Z
DTSTAMP:20241107T194239Z
ORGANIZER;CN=Portal de Eventos - Centro Universitário Fibra:MAILTO:eventos
 @fibrapara.edu.br
GEO:-1.455183;-48.482397
X-APPLE-STRUCTURED-LOCATION;VALUE=URI;X-ADDRESS=Av. Gentil Bittencourt\, 11
 44.;X-APPLE-RADIUS=72;X-TITLE=Centro Universitário Fibra:-1.455183;-48.48
 2397
END:VEVENT
END:VCALENDAR