BEGIN:VCALENDAR
VERSION:2.0
PRODID:Events Booking
BEGIN:VEVENT
UID:69e9a505a3bf7
SUMMARY:VII ENCONTRO INTERNACIONAL DE LITERATURA ANGLÓFONA
DESCRIPTION:VII ENCONTRO INTERNACIONAL DE LITERATURA ANGLÓFONA - LITERATUR
 A COMO MEIO DE IGUALDADE DE GÊNEROAUTOR HOMENAGEADO: JAMES BALDWIN
 &nbs
 p\;Programação:
 19h - Número de dança – Rodrigo Carneiro
 19h30 
 – Palestra: A Importância e o Papel da Literatura como Instrumento para
  a Promoção da Igualdade de GêneroPalestrante: Madina Yerkeen
 20h15 -
  ApresentaçõesSophia de Oliveira Leal: O protagonismo feminino nos livro
 s de aventura\, com características medievais\, da Literatura Americana d
 o Século XXIAugusto Cassiano Simi: Transcendentalismo através da obra Se
 lf-Reliance
 21h – Número de dança – Rodrigo Carneiro
 21h10 – P
 erformance – Dublagem - Ciro Carvalho
LOCATION:Av. Gentil Bittencourt\, 1144.
DTSTART:20241119T220000Z
DTEND:20241120T010000Z
DTSTAMP:20241107T194239Z
ORGANIZER;CN=Portal de Eventos - Centro Universitário Fibra:MAILTO:eventos
 @fibrapara.edu.br
GEO:-1.455183;-48.482397
X-APPLE-STRUCTURED-LOCATION;VALUE=URI;X-ADDRESS=Av. Gentil Bittencourt\, 11
 44.;X-APPLE-RADIUS=72;X-TITLE=Centro Universitário Fibra:-1.455183;-48.48
 2397
END:VEVENT
END:VCALENDAR