BEGIN:VCALENDAR
VERSION:2.0
PRODID:Events Booking
BEGIN:VEVENT
UID:69e93237e2a49
SUMMARY:Submissão de Trabalhos - JOFISIO
DESCRIPTION:EDITAL DE SUBMISSÃO DE TRABALHO CIENTÍFICO NA III JORNADA DE 
 FISIOTERAPIA DA FIBRA- III JOFISIO
 O Centro Universitário Fibra\, por i
 ntermédio da Coordenação do Curso de Fisioterapia\, convoca a comunidad
 e acadêmica do Curso de Fisioterapia a participarem da III JORNADA DE FIS
 IOTERAPIA DA FIBRA- III JOFISIO
 Art. 1º Está aberto o período de insc
 rição\, do dia\, 07 a 17 de outubro de 2024 a estudantes e profissionais
  de Fisioterapia participarem da III JORNADA DE FISIOTERAPIA DA FIBRA- III
  JOFISIO
 Art. 2º As submissões dos trabalhos serão realizadas exclusi
 vamente por meio do link disponível no Portal de Eventos do Centro Univer
 sitário Fibra: https://fibrapara.net/eventos.
 Art. 3º O resultado dos 
 trabalhos aprovados ocorrerá no dia 18 de outubro de 2024 e será comunic
 ado via e-mail:
 Art. 4º Normas e regras para submissão estão descrita
 s abaixo:
 
 Há cinco categorias de classificação para os resumos\, d
 evendo eleger uma destas:
 Ensino\;
 Pesquisa\;
 Extensão\;
 Relato d
 e experiência\;
 Revisão bibliográfica.
 
 Os resumos serão apresen
 tados em formato de banner como modelo em anexo (até 15 trabalhos aprovad
 os) ou resumo expandido\, de acordo com o Template anexado (até 15 trabal
 hos aprovados).
 Os resumos devem ser submetidos de acordo com as regras 
 a seguir:
 O texto deverá ser escrito de acordo com a norma culta gramat
 ical da Língua Portuguesa\;
 Fonte: Arial\, tamanho: 12\, espaçamento: 
 1\,5.
 Os resumos das categorias ensino\, pesquisa e extensão deverão t
 er o mínimo de 230 e o máximo de 580 palavras\, e apresentar três descr
 itores/palavras chaves. Deverão contemplar os seguintes itens em sua estr
 utura:
 
 Introdução\;
 Objetivos\;
 Métodos\;
 Resultados\;
 Con
 clusão.
 
 
 Os resumos das categorias relato de experiência e revis
 ão bibliográfica devem ser no formato de resumo expandido\, informativo\
 , contendo o mínimo de 1030 e o máximo de 1330 palavras e apresentar tr
 ês descritores/palavras chaves. Ter até cinco (5) referências bibliogr
 áficas. Deverão contemplar os seguintes itens em sua estrutura:
 
 Int
 rodução\;
 Objetivos\;
 Relato de experiência descrevendo o contexto\
 ;
 Sujeitos envolvidos\;
 Principais etapas\;
 Resultados\;
 Conclusã
 o.
 
 
 A totalidade de palavras do resumo incluirá o título\, os nom
 es dos autores\, o e-mail do autor correspondente e os descritores.
 O t
 ítulo do resumo precisa estar em letras maiúsculas.
 O resumo precisar
 á ter as seguintes informações sobre os autores:
 
 Nome completo\;

  Formação\;
 Titulação\;
 Instituição de vínculo acadêmico e/ou 
 profissional atual.
 
 
 O e-mail do autor correspondente - ou principa
 l - deve ser inserido. É facultado ao autor que submeter o trabalho ser o
  autor principal.
 Cada trabalho deverá ter no máximo 10 (dez) autores 
 e é obrigatória a participação de um orientador de nível superior.
 
 
 &nbsp\;
 OUTRAS ORIENTAÇÕES
 
 Cada participante da jornada\, inde
 pendentemente da categoria\, terá direito à submissão de no máximo 2 (
 dois) trabalhos como autor principal. Entretanto\, sua participação como
  coautor é ilimitada.
 Os conteúdos dos trabalhos submetidos serão de 
 responsabilidade do(s) autor(es).
 Trabalhos que não atendam às regras 
 de submissão não serão aceitos no evento.
 Não haverá possibilidade 
 de reedição do trabalho após o envio.
 Todos os autores deverão estar
  inscritos na JOFISIO\, com exceção do orientador.
 
 &nbsp\;
 AVALIA
 ÇÃO DOS TRABALHOS
 
 Será realizada por uma comissão cientifica com 
 expertise nas áreas temáticas\, que levará em consideração:
 Relevâ
 ncia cientifica\;
 Cumprimento das regras orientadas quanto a:
 
 Estru
 turação\;
 Formatação\;
 Vínculo com a área temática escolhida\;
 
 
 
 O conteúdo deve apresentar coerência teórica e metodológica\, 
 além de encadeamento lógico entre as partes do resumo\, tornando a total
 idade do texto consistente e compreensível para o leitor\;
 Serão class
 ificados em duas categorias: aptos e inaptos\;
 Os aptos serão divididos
  em 15
 Não serão divulgadas informações avaliativas\, tanto em caso 
 de aprovação como de reprovação\;
 Será assegurado o anonimato dos a
 utores e avaliadores dos trabalhos\;
 O(s) nome(s) do(s) autor(es) deve(m
 ) ser preenchido(s) por completo\, de forma correta (tanto a grafia quanto
  a ordem de autoria)\, pois será(ão) utilizado(s) para a confecção do(
 s) certificado(s)\;
 É de responsabilidade do(s) autor(es) do(s) resumo(
 s) a revisão textual completa\;
 Não serão aceitos quaisquer pedidos d
 e correção após o término do período de submissão.
 
 &nbsp\;
 &n
 bsp\;
 &nbsp\;
 FORMAS DE APRESENTAÇÃO DOS TRABALHOS APROVADOS
 
 Os
  trabalhos serão apresentados na forma de banner ou apresentação oral\;
 
 O banner de exposição deverá conter a seguinte medida: 80 x 120 cm\;
 
 Em etapa posterior\, logo após os resultados de aprovação\, os autor
 es receberão orientações quanto ao envio do formato final de apresenta
 ção/exposição\;
 Os trabalhos aprovados\, na forma de banner\, terão
  exposição permanente\, disponível durante todo o período do evento\, 
 portanto\, deverão ser fixados na área de convivência do Centro Univers
 itário Fibra às 08:00hs do dia 22/10 e retirados apenas no final do even
 to às 21:30hs. No período de 09:30 às 10:00 ocorrerá a avaliação do 
 trabalho por um avaliador designado pela comissão científica.
 A aprese
 ntação oral ocorrerá em dois momentos\, 09 trabalhos das 14:00 às 15:3
 0 e 06 trabalhos das 18:00 às 19:00\, o horário das apresentações ser
 á fixado na entrada do auditório do Centro Universitário Fibra no dia d
 o evento\, às 08:00hs. A apresentação ocorrerá no auditório e será r
 ealizada por 1 dos autores\, com duração de até 10 minutos e o avaliado
 r fará o registro em ficha de avaliação\, sem arguir o pesquisador.
 
 
 &nbsp\;
 AVALIAÇÃO PARA PREMIAÇÃO
 
 A premiação será em certi
 ficação para os cinco melhores trabalhos.
 Será realizada por uma comi
 ssão que levará em conta:
 
 
 A coerência com o tema central do tra
 balho\;
 A relevância cientifica do tema\;
 Metodologia científica uti
 lizada e sua adequação ao trabalho\;
 Clareza e correção da linguagem
 \;
 Conclusões e aplicabilidade prática.
 
 Belém\, 30 de setembro d
 e 2024
 Vicente de Paulo Tavares Noronha
 Reitor do Centro Universitári
 o Fibra
 &nbsp\;
 
 &nbsp\;
 Download do template para banner
 Downlo
 ad do template para resumo
LOCATION:Av. Gentil Bittencourt\, 1144.
DTSTART:20241022T110000Z
DTEND:20241023T003000Z
DTSTAMP:20241003T151905Z
ORGANIZER;CN=Portal de Eventos - Centro Universitário Fibra:MAILTO:eventos
 @fibrapara.edu.br
GEO:-1.455183;-48.482397
X-APPLE-STRUCTURED-LOCATION;VALUE=URI;X-ADDRESS=Av. Gentil Bittencourt\, 11
 44.;X-APPLE-RADIUS=72;X-TITLE=Centro Universitário Fibra:-1.455183;-48.48
 2397
END:VEVENT
END:VCALENDAR