BEGIN:VCALENDAR
VERSION:2.0
PRODID:Events Booking
BEGIN:VEVENT
UID:69e8d7b97b232
SUMMARY:III Feira de Gastronomia - A gastronomia como janela para possibili
 dades! 
DESCRIPTION:PROGRAMAÇÃO
 8h - Palestra Gastronomia veganaPalestrante: Nu
 t. Walceni Lopes Marques
 9h - V circuito gastronômico: campeonato de re
 leitura de gastronomia internacional
 10h - Palestra Culinária para port
 adores de doença celíacaPalestrante: Nut. Drª Carolina Vieira Bezerra

  11h - Palestra - Sustentabilidade na EcogastronomiaPalestrante: Nut Msc D
 yanara de Almeida Oliveira
 11:50h - Premiação da competição de relei
 tura da gastronomia internacional
DTSTART:20230324T110000Z
DTEND:20230324T150000Z
DTSTAMP:20230320T225957Z
ORGANIZER;CN=Portal de Eventos - Centro Universitário Fibra:MAILTO:eventos
 @fibrapara.edu.br
END:VEVENT
END:VCALENDAR