BEGIN:VCALENDAR
VERSION:2.0
PRODID:Events Booking
BEGIN:VEVENT
UID:69e9e5b08a189
SUMMARY:II Júri Experience
DESCRIPTION:No dia do Advogado\, 11/08\, será realizado o II Júri Experie
 nce no auditório da Fibra às 19h. A organização ficou a cargo dos prof
 essores do curso de Direito da Fibra e contaremos com a participação de 
 renomados profissionais do meio jurídico\, incluindo promotores e advogad
 os.Arrasta para o lado para conferir os nomes dos palestrantes convidados 
 que participarão do evento.Será uma oportunidade única de aprender com 
 os melhores profissionais do ramo.&nbsp\;
LOCATION:Av. Gentil Bittencourt\, 1144.
DTSTART:20230811T220000Z
DTEND:20230812T010000Z
DTSTAMP:20230713T174319Z
ORGANIZER;CN=Portal de Eventos - Centro Universitário Fibra:MAILTO:eventos
 @fibrapara.edu.br
GEO:-1.455183;-48.482397
X-APPLE-STRUCTURED-LOCATION;VALUE=URI;X-ADDRESS=Av. Gentil Bittencourt\, 11
 44.;X-APPLE-RADIUS=72;X-TITLE=Centro Universitário Fibra:-1.455183;-48.48
 2397
END:VEVENT
END:VCALENDAR