BEGIN:VCALENDAR
VERSION:2.0
PRODID:Events Booking
BEGIN:VEVENT
UID:69e93720796ba
SUMMARY:Submissão de Trabalhos
DESCRIPTION:NORMAS PARA SUBMISSÃO DE RESUMOS
 
 Cada resumo simples pode
 rá ter até 08 autores\;
 Cada autor principal pode inscrever até 03 re
 sumos\;
 Para a submissão dos resumos um dos autores precisa estar inscr
 ito no evento\;
 A avaliação dos resumos será feita com base no materi
 al enviado\;
 A submissão será feita somente através do Portal de Even
 tos.
 Será fornecido somente um certificado por trabalho com o nome dos 
 autores\;
 O prazo para submissão de trabalhos será até dia 15/10/2023
 \;
 A divulgação dos resultados será até o dia 17/10/2023\;
 
 ESPE
 CIFICAÇÕES DO RESUMO
 O título do trabalho deve ser escrito em maiúsc
 ulas e sem abreviaturas\;
 
 Nome das Instituições de cada autor e end
 ereço eletrônico de um dos autores\;
 Os resumos deverão ser digitados
  em espaço entre linhas simples\, e deverão conter no máximo 2.500 e no
  mínimo 1.000 caracteres\, incluindo linhas em branco e os espaços entre
  caracteres (sem incluir o título\, autores e instituições)\, com fonte
  Arial e tamanho 10.
 Só devem ser usadas abreviaturas cientificamente r
 econhecidas\;
 O texto deverá ser escrito de forma contínua e conter: I
 ntrodução\, Objetivos\, Metodologia\, Resultados\, Conclusão e Palavras
 -chave (no máximo cinco)\;
 Não deverá conter tabelas\, gráficos\, fi
 guras ou citações bibliográficas\;
 
 Os relatos de casos deverão co
 nter: Introdução\, Relato\, Conclusão e Palavras-chave (no máximo cinc
 o)
 
 Os trabalhos deverão ser apresentados em painéis dispostos para 
 este fim devendo cada pôster com tamanho de 1\,20m x 0\,90m\;
 
 
 &nb
 sp\;
 &nbsp\;
 &nbsp\;
LOCATION:Av. Gentil Bittencourt\, 1144.
DTSTART:20231006T130000Z
DTEND:20231016T025500Z
DTSTAMP:20231006T161115Z
ORGANIZER;CN=Portal de Eventos - Centro Universitário Fibra:MAILTO:eventos
 @fibrapara.edu.br
GEO:-1.455183;-48.482397
X-APPLE-STRUCTURED-LOCATION;VALUE=URI;X-ADDRESS=Av. Gentil Bittencourt\, 11
 44.;X-APPLE-RADIUS=72;X-TITLE=Centro Universitário Fibra:-1.455183;-48.48
 2397
END:VEVENT
END:VCALENDAR