BEGIN:VCALENDAR
VERSION:2.0
PRODID:Events Booking
BEGIN:VEVENT
UID:69e960e5f1e94
SUMMARY:X Encontro de Estudantes de História
DESCRIPTION:19h. Mesa redonda
 COP 30 na Amazônia: A importância histór
 ica dos povos da floresta em prol de um futuro sustentável\"
 &nbsp\;
LOCATION:Av. Gentil Bittencourt\, 1144.
DTSTART:20240522T220000Z
DTEND:20240523T000000Z
DTSTAMP:20240513T233951Z
ORGANIZER;CN=Portal de Eventos - Centro Universitário Fibra:MAILTO:eventos
 @fibrapara.edu.br
GEO:-1.455183;-48.482397
X-APPLE-STRUCTURED-LOCATION;VALUE=URI;X-ADDRESS=Av. Gentil Bittencourt\, 11
 44.;X-APPLE-RADIUS=72;X-TITLE=Centro Universitário Fibra:-1.455183;-48.48
 2397
END:VEVENT
END:VCALENDAR