BEGIN:VCALENDAR
VERSION:2.0
PRODID:Events Booking
BEGIN:VEVENT
UID:69e960d5b3678
SUMMARY:V Jornada de História e Educação
DESCRIPTION:19h. Palestra (Auditório)
 Prof.&nbsp\; Ma. Lívia Maia – S
 ilenciamento da história da Amazônia na educação: desafios e expectati
 vas
 20h30. Apresentação de trabalhos acadêmicos (Auditório)
LOCATION:Av. Gentil Bittencourt\, 1144.
DTSTART:20240521T220000Z
DTEND:20240522T003000Z
DTSTAMP:20240513T233951Z
ORGANIZER;CN=Portal de Eventos - Centro Universitário Fibra:MAILTO:eventos
 @fibrapara.edu.br
GEO:-1.455183;-48.482397
X-APPLE-STRUCTURED-LOCATION;VALUE=URI;X-ADDRESS=Av. Gentil Bittencourt\, 11
 44.;X-APPLE-RADIUS=72;X-TITLE=Centro Universitário Fibra:-1.455183;-48.48
 2397
END:VEVENT
END:VCALENDAR