BEGIN:VCALENDAR
VERSION:2.0
PRODID:Events Booking
BEGIN:VEVENT
UID:69e960f6a3bf5
SUMMARY:XIV Encontro de Pedagogia
DESCRIPTION:18h. Lançamento do Livro “A Formação de Educadores e o Ter
 ritório Ribeirinho na Amazônia” (Espaço de convivência)
 Autor: Pro
 f. Dr. Jenijunio dos Santos
 19h. Homenagem ao dia do Pedagogo (Auditóri
 o)
 19h30. Palestras (Auditório)
 Palestrantes: Professoras e Professor
 es do Núcleo de Arte\, Cultura e Educação-NACE/SEMEC
 Prof. José Ailt
 on de Carvalho Arnaud
 Prof. Marta Regina Silva Ferreira e
 Prof. Viníc
 ius Luhi Ribeiro de Azeredo
 20h30. Apresentação de vídeo (Auditório)
 
  
 &nbsp\;
LOCATION:Av. Gentil Bittencourt\, 1144.
DTSTART:20240520T210000Z
DTEND:20240521T010000Z
DTSTAMP:20240513T233951Z
ORGANIZER;CN=Portal de Eventos - Centro Universitário Fibra:MAILTO:eventos
 @fibrapara.edu.br
GEO:-1.455183;-48.482397
X-APPLE-STRUCTURED-LOCATION;VALUE=URI;X-ADDRESS=Av. Gentil Bittencourt\, 11
 44.;X-APPLE-RADIUS=72;X-TITLE=Centro Universitário Fibra:-1.455183;-48.48
 2397
END:VEVENT
END:VCALENDAR