BEGIN:VCALENDAR
VERSION:2.0
PRODID:Events Booking
BEGIN:VEVENT
UID:69e973b7d8982
SUMMARY:Encontro Internacional de Literatura Afro-Brasileira
DESCRIPTION:Tema: Literatura afrobrasileira: A poética de nossa afrobrasil
 idade
 19h. Comunicações das discentes (Auditório)
 
 Diellen Couto 
 dos Santos – Literatura Afro: A poética de nossa afro-brasilidade
 Dan
 iela Magalhaes Brito e Heloisa dos Santos Tavares – Maria Firmina dos Re
 is: A voz feminina da afro-brasilidade
 Analice Almeida da Silva e Rosean
 a Lima da Silva – “Quarto de despejo” na Literatura de Carolina de J
 esus
 Rubia Luz de Lima e Yolanda Rodrigues – As escrevivências de Con
 ceição Evaristo
 
 &nbsp\;
 20h. Palestra (Auditório)
 Natanael Fon
 a Gomes (Escritor de Guiné-Bissau)
 &nbsp\;
 21h. Apresentação Cultur
 al (Auditório)
LOCATION:Av. Gentil Bittencourt\, 1144.
DTSTART:20240523T220000Z
DTEND:20240524T010000Z
DTSTAMP:20240513T233951Z
ORGANIZER;CN=Portal de Eventos - Centro Universitário Fibra:MAILTO:eventos
 @fibrapara.edu.br
GEO:-1.455183;-48.482397
X-APPLE-STRUCTURED-LOCATION;VALUE=URI;X-ADDRESS=Av. Gentil Bittencourt\, 11
 44.;X-APPLE-RADIUS=72;X-TITLE=Centro Universitário Fibra:-1.455183;-48.48
 2397
END:VEVENT
END:VCALENDAR