BEGIN:VCALENDAR
VERSION:2.0
PRODID:Events Booking
BEGIN:VEVENT
UID:69e9608919f67
SUMMARY:III Circuito Linguístico
DESCRIPTION:18h45. Receptivo e credenciamento dos participantes (distribui
 ção de números para o sorteio de brindes durante o evento)
 &nbsp\;
 
 19h15. Palestra
 Prof. Gabriel Viera – Educação bilíngue é papel mu
 ltidisciplinar ou apenas do profissional de letras?\"
 &nbsp\;
 20h. Int
 ervalo: sorteio de brindes
 &nbsp\;
 20h30 Comunicações dos discentes
 
 Painéis de discussões: divulgação de pesquisas baseadas em relatóri
 os de estágios realizados em escolas de Ensino Fundamental e Médio\, pú
 blicas e particulares do município de Belém do Pará 
LOCATION:Av. Gentil Bittencourt\, 1144.
DTSTART:20240522T214500Z
DTEND:20240523T003000Z
DTSTAMP:20240513T233951Z
ORGANIZER;CN=Portal de Eventos - Centro Universitário Fibra:MAILTO:eventos
 @fibrapara.edu.br
GEO:-1.455183;-48.482397
X-APPLE-STRUCTURED-LOCATION;VALUE=URI;X-ADDRESS=Av. Gentil Bittencourt\, 11
 44.;X-APPLE-RADIUS=72;X-TITLE=Centro Universitário Fibra:-1.455183;-48.48
 2397
END:VEVENT
END:VCALENDAR