BEGIN:VCALENDAR
VERSION:2.0
PRODID:Events Booking
BEGIN:VEVENT
UID:69e8a89b0b003
SUMMARY:II Congresso Amazônico de Medicina e Inovação em Saúde
DESCRIPTION:Tema: Medicina de Precisão e Inteligência Artificial na Visã
 o Multiprofissional
 Participe do maior Congresso de inteligência artifi
 cial e medicina de precisão já realizado no Brasil. Será uma oportunida
 de única para adquirir novos conhecimentos na área\, especialmente nas n
 ovas metodologias para diagnóstico e tratamento das doenças que afetam a
  população amazônica.
 Além disso\, você terá a oportunidade de ser
  sócio-fundador da Rede Amazônica de Medicina de Precisão/Saúde de Pre
 cisão - a primeira do Brasil. Na rede\, você receberá todas as informa
 ções sobre medicina de precisão\, estilo de vida e meio ambiente relaci
 onados aos novos tratamentos. Não haverá anuidade nem mensalidade para p
 articipar da rede\, bastando assinar o livro de ata que estará disponíve
 l durante todo o evento.
 Sua participação no Congresso poderá gerar n
 o mínimo quatro certificados (Curso Pré-congresso\, Congresso\, Fundador
  da Rede Amazônica de Saúde de Precisão e Trabalhos Aprovados).
 Subme
 ta sua pesquisa científica e seja autor de um capítulo nos anais do Cong
 resso\, que será publicado no formato de e-book\, com ISBN.
 &nbsp\;
 P
 úblico-Alvo:Profissionais de saúde\, pesquisadores\, acadêmicos\, técn
 icos\, estudantes e gestores de saúde\, profissionais da indústria tecno
 lógica e todos aqueles interessados no impacto das inovações tecnológi
 cas no setor da saúde.
 
LOCATION:Avenida Presidente Vargas\, nº 882.  Campina\, Belém
DTSTART:20250823T110000Z
DTEND:20250824T150000Z
DTSTAMP:20250127T033642Z
ORGANIZER;CN=Portal de Eventos - Centro Universitário Fibra:MAILTO:eventos
 @fibrapara.edu.br
GEO:-1.453483;-48.494291
X-APPLE-STRUCTURED-LOCATION;VALUE=URI;X-ADDRESS=Avenida Presidente Vargas\,
  nº 882.  Campina\, Belém;X-APPLE-RADIUS=72;X-TITLE=Hotel Princesa Louç
 ã:-1.453483;-48.494291
END:VEVENT
END:VCALENDAR