BEGIN:VCALENDAR
VERSION:2.0
PRODID:Events Booking
BEGIN:VEVENT
UID:69e937ad8ca01
SUMMARY:I Meeting de Periodontia - Hands On
DESCRIPTION:
 Objetivo geral:
 
 Difundir e desenvolver ciência e casos
  clínicos da periodontia praticados na Fibra.
 
 Objetivos específicos
 :
 
 1- Desenvolver no aluno de graduação a capacidade de apresentaç
 ão de conteúdo científico\;
 2- Divulgar técnicas e métodos relevant
 es para o tratamento periodontal\;
 3- Promover a popularização da ciê
 ncia e metodologia em alunos de graduação.
LOCATION:Av. Gentil Bittencourt\, 1144.
DTSTART:20240301T193000Z
DTEND:20240301T230000Z
DTSTAMP:20240202T172310Z
ORGANIZER;CN=Portal de Eventos - Centro Universitário Fibra:MAILTO:eventos
 @fibrapara.edu.br
GEO:-1.455183;-48.482397
X-APPLE-STRUCTURED-LOCATION;VALUE=URI;X-ADDRESS=Av. Gentil Bittencourt\, 11
 44.;X-APPLE-RADIUS=72;X-TITLE=Centro Universitário Fibra:-1.455183;-48.48
 2397
END:VEVENT
END:VCALENDAR