BEGIN:VCALENDAR
VERSION:2.0
PRODID:Events Booking
BEGIN:VEVENT
UID:69e9fecda728f
SUMMARY:I Jornada de Enfermagem
DESCRIPTION:A Enfermagem como profissão do futuro: sua força e responsabi
 lidade&nbsp\;na assistência à saúde
 &nbsp\;
 Estudos revelam que a&n
 bsp\;enfermagem do futuro&nbsp\;terá mais autonomia\, fortalecida com as 
 evidências científicas\, a cada dia o enfermeiro tem recebido reconhecim
 ento pela sociedade.&nbsp\;Muitos pesquisadores&nbsp\;são otimistas em re
 lação ao futuro da profissão.&nbsp\;&nbsp\;A profissão continuará a a
 cumular força e responsabilidade no campo da assistência à saúde\, e o
 s enfermeiros com&nbsp\;prática&nbsp\;avançada continuarão a expandir o
  seu âmbito de ação. E a jornada irá trazer para discussão especialis
 tas na área\, não perca!!!
 &nbsp\;
 Inscrição: 1 quilo de alimento 
 não perecível entregue no momento do credenciamento
 &nbsp\;
 &nbsp\;
LOCATION:Av. Gentil Bittencourt\, 1144.
DTSTART:20240927T110000Z
DTEND:20240928T210000Z
DTSTAMP:20240904T032818Z
ORGANIZER;CN=Portal de Eventos - Centro Universitário Fibra:MAILTO:eventos
 @fibrapara.edu.br
GEO:-1.455183;-48.482397
X-APPLE-STRUCTURED-LOCATION;VALUE=URI;X-ADDRESS=Av. Gentil Bittencourt\, 11
 44.;X-APPLE-RADIUS=72;X-TITLE=Centro Universitário Fibra:-1.455183;-48.48
 2397
END:VEVENT
END:VCALENDAR