BEGIN:VCALENDAR
VERSION:2.0
PRODID:Events Booking
BEGIN:VEVENT
UID:69e9077542db7
SUMMARY:Manhã
DESCRIPTION:Evento exclusivo para a turma do 6º semestre de Biomedicina do
  Centro Universitário Fibra.
DTSTART:20231129T110000Z
DTEND:20231129T150000Z
DTSTAMP:20231128T032620Z
ORGANIZER;CN=Portal de Eventos - Centro Universitário Fibra:MAILTO:eventos
 @fibrapara.edu.br
END:VEVENT
END:VCALENDAR