BEGIN:VCALENDAR
VERSION:2.0
PRODID:Events Booking
BEGIN:VEVENT
UID:69e95ed20322d
SUMMARY:V ENCONTRO DOS ESTUDANTES DE LETRAS – LÍNGUA E IDENTIDADE: A DIV
 ERSIDADE LINGUÍSTICA NA CIDADE DE BELÉM DO PARÁ
DESCRIPTION:
LOCATION:Av. Gentil Bittencourt\, 1144.
DTSTART:20231121T220000Z
DTEND:20231122T010000Z
DTSTAMP:20231116T215641Z
ORGANIZER;CN=Portal de Eventos - Centro Universitário Fibra:MAILTO:eventos
 @fibrapara.edu.br
GEO:-1.455183;-48.482397
X-APPLE-STRUCTURED-LOCATION;VALUE=URI;X-ADDRESS=Av. Gentil Bittencourt\, 11
 44.;X-APPLE-RADIUS=72;X-TITLE=Centro Universitário Fibra:-1.455183;-48.48
 2397
END:VEVENT
END:VCALENDAR