BEGIN:VCALENDAR
VERSION:2.0
PRODID:Events Booking
BEGIN:VEVENT
UID:69e96050e91b7
SUMMARY:XIV ENCONTRO DAS LICENCIATURAS – AMAZÔNIA EM DEBATE: EDUCAÇÃO 
 E MEIO AMBIENTE
DESCRIPTION:
LOCATION:Av. Gentil Bittencourt\, 1144.
DTSTART:20231123T180000Z
DTEND:20231124T010000Z
DTSTAMP:20231116T215641Z
ORGANIZER;CN=Portal de Eventos - Centro Universitário Fibra:MAILTO:eventos
 @fibrapara.edu.br
GEO:-1.455183;-48.482397
X-APPLE-STRUCTURED-LOCATION;VALUE=URI;X-ADDRESS=Av. Gentil Bittencourt\, 11
 44.;X-APPLE-RADIUS=72;X-TITLE=Centro Universitário Fibra:-1.455183;-48.48
 2397
END:VEVENT
END:VCALENDAR