BEGIN:VCALENDAR
VERSION:2.0
PRODID:Events Booking
BEGIN:VEVENT
UID:69eca5e0ca774
SUMMARY:Gestão de Fluxo em UMS: Classificação de Risco e Manejo de Urgê
 ncias e Emergências na Rede Básica
DESCRIPTION:
LOCATION:Av. Gentil Bittencourt\, 1144.
DTSTART:20260205T113000Z
DTEND:20260205T140000Z
DTSTAMP:20260122T142722Z
ORGANIZER;CN=Portal de Eventos - Centro Universitário Fibra:MAILTO:eventos
 @fibrapara.edu.br
GEO:-1.455183;-48.482397
X-APPLE-STRUCTURED-LOCATION;VALUE=URI;X-ADDRESS=Av. Gentil Bittencourt\, 11
 44.;X-APPLE-RADIUS=72;X-TITLE=Centro Universitário Fibra:-1.455183;-48.48
 2397
END:VEVENT
END:VCALENDAR