BEGIN:VCALENDAR
VERSION:2.0
PRODID:Events Booking
BEGIN:VEVENT
UID:69e9febcc293b
SUMMARY:GASOMETRIA PARA ENFERMAGEM 
DESCRIPTION:O objetivo do curso é capacitar acadêmicos e profissionais de
  enfermagem quanto à coleta\, interpretação e analise de exames de&nbsp
 \;gasometria arteriale venosa\, identificar desequilíbrios respiratórios
  e metabólicos para proporcionar intervenções clínicas assertivas de a
 cordo com suas competências.
 Público alvo: Acadêmicos e profissionais
  de enfermagem.
 Manhã: de 08:00h às 12:00hTarde: de 14:00h às 16:00h
 
 Conteúdo do Curso:
 
 Definição/conceito de gasometria arterial e v
 enosa\;
 Estudo do desiquilíbrio ácido-basico\;
 Indicações para col
 eta de exame de gasometria\;
 Principais parâmetros e referências em um
 a gasometria artéria e venosa\;
 Principais distúrbios acido-básico en
 contrados\;
 Interpretação de gasometria\;
 Como coletar uma gasometri
 a arterial e venosa\;
 A importância do teste de Allen para coleta de ga
 sometria\;
 Prática da técnica de coleta em laboratório.
 
 
LOCATION:Av. Gentil Bittencourt\, 1144.
DTSTART:20250412T110000Z
DTEND:20250412T190000Z
DTSTAMP:20250307T185313Z
ORGANIZER;CN=Portal de Eventos - Centro Universitário Fibra:MAILTO:eventos
 @fibrapara.edu.br
GEO:-1.455183;-48.482397
X-APPLE-STRUCTURED-LOCATION;VALUE=URI;X-ADDRESS=Av. Gentil Bittencourt\, 11
 44.;X-APPLE-RADIUS=72;X-TITLE=Centro Universitário Fibra:-1.455183;-48.48
 2397
END:VEVENT
END:VCALENDAR