BEGIN:VCALENDAR
VERSION:2.0
PRODID:Events Booking
BEGIN:VEVENT
UID:69e9e67143fe0
SUMMARY:Projeto Futuros Advogados
DESCRIPTION:O Projeto Futuros Advogados\, vinculado ao Curso de Direito do 
 Centro Universitário Fibra\, visa promover atividades inerentes ao desenv
 olvimento de temáticas e conteúdos curriculares voltadas\, principalment
 e\, aos estudantes de Direito que irão prestar o Exame de Ordem\, fomenta
 ndo a preparação necessária à consecução das provas da OAB.
 As exi
 gências para o exercício profissional no campo da advocacia no cenário 
 atual requerem pessoas qualificadas que tenham discernimento sobre o fenô
 meno jurídico e sua interface com os problemas humanos.
 O Exame da Orde
 m dos Advogados do Brasil (OAB) tem a finalidade de selecionar os profissi
 onais qualificados para exercerem a carreira jurídica com proficiência e
 m prol da sociedade\, sendo que os estudantes de Direito que almejam a pr
 ática jurídica enquanto profissão necessitam realizar o exame.
 As ati
 vidades do projeto se desenvolverão por meio de aulas expositivas e comen
 tários de questões objetivas e subjetivas\, aplicadas em concursos anter
 iores.
 Evento aberto ao público externo.
LOCATION:Av. Gentil Bittencourt\, 1144.
DTSTART:20230304T120000Z
DTEND:20230304T160000Z
DTSTAMP:20230228T163801Z
ORGANIZER;CN=Portal de Eventos - Centro Universitário Fibra:MAILTO:eventos
 @fibrapara.edu.br
GEO:-1.455183;-48.482397
X-APPLE-STRUCTURED-LOCATION;VALUE=URI;X-ADDRESS=Av. Gentil Bittencourt\, 11
 44.;X-APPLE-RADIUS=72;X-TITLE=Centro Universitário Fibra:-1.455183;-48.48
 2397
END:VEVENT
END:VCALENDAR