BEGIN:VCALENDAR
VERSION:2.0
PRODID:Events Booking
BEGIN:VEVENT
UID:69e9e58238b86
SUMMARY:As fronteiras \"abertas\" do Brasil versus a realidade europeia
DESCRIPTION:As fronteiras abertas do Brasil versus a realidade europeia: um
 a análise comparda sobre a questão dos refugiados
 &nbsp\;
 Prof. Dr. 
 José Diaz Lafuente discutirá a questão dos refugiados numa análise com
 parada entre a realidade brasileira e europeia.
 
LOCATION:Av. Gentil Bittencourt\, 1144.
DTSTART:20240401T220000Z
DTEND:20240402T000000Z
DTSTAMP:20240321T005127Z
ORGANIZER;CN=Portal de Eventos - Centro Universitário Fibra:MAILTO:eventos
 @fibrapara.edu.br
GEO:-1.455183;-48.482397
X-APPLE-STRUCTURED-LOCATION;VALUE=URI;X-ADDRESS=Av. Gentil Bittencourt\, 11
 44.;X-APPLE-RADIUS=72;X-TITLE=Centro Universitário Fibra:-1.455183;-48.48
 2397
END:VEVENT
END:VCALENDAR