BEGIN:VCALENDAR
VERSION:2.0
PRODID:Events Booking
BEGIN:VEVENT
UID:69e9ea462c20d
SUMMARY:Curso de Extensão \"Avaliação de Feridas e Coberturas\"
DESCRIPTION:O enfermeiro\, ao realizar a avaliação da ferida\,&nbsp\;deve
  avaliar todo o seu aspecto\, a fim de decidir qual o melhor tratamento a 
 ser seguido. Alguns elementos devem ser avaliados e registrados para garan
 tir tratamento adequado. No curso\, serão apresentados todos os aspectos 
 necessários para uma boa avaliação das feridas e suas coberturas.
 O c
 urso tem como objetivo&nbsp\;ensinar a avaliação global de feridas cirú
 rgicas e crônicas e\, também\, ensinar o registro correto da avaliação
  das feridas.
 A renda do curso será revertida na na compra de fraldas g
 eriátricas para instituição de acolhimento de pessoas em situação de 
 rua: &nbsp\;Missão Belém
 Curso aberto ao público externo.
LOCATION:Av. Gentil Bittencourt\, 1144.
DTSTART:20230119T120000Z
DTEND:20230126T150000Z
DTSTAMP:20230113T201136Z
ORGANIZER;CN=Portal de Eventos - Centro Universitário Fibra:MAILTO:eventos
 @fibrapara.edu.br
GEO:-1.455183;-48.482397
X-APPLE-STRUCTURED-LOCATION;VALUE=URI;X-ADDRESS=Av. Gentil Bittencourt\, 11
 44.;X-APPLE-RADIUS=72;X-TITLE=Centro Universitário Fibra:-1.455183;-48.48
 2397
END:VEVENT
END:VCALENDAR