BEGIN:VCALENDAR
VERSION:2.0
PRODID:Events Booking
BEGIN:VEVENT
UID:69e902a8af6e5
SUMMARY:Curso de Extensão Farmacognosia de Cannabis
DESCRIPTION:Os relatos mais antigos do uso terapêutico da planta da Cannab
 is sativa datam de 2700 a.C.\, quando era usada na China para tratamento d
 e algumas dores e enfermidades. Mas por que a Cannabis serve como remédio
  para o ser humano há tanto tempo? A resposta está no nosso corpo. O ser
  humano possui em seu organismo um sistema chamado endocanabinóide\, um s
 istema de neurotransmissores e receptores que são responsáveis por regul
 ar diversas funções e atividades do corpo. Com isso\, a utilização de 
 fitocanabinóides (encontrados na planta)\, análogos aos endocanabinóide
 s\, pode adequar a quantidade necessária para o equilíbrio no organismo\
 , já que\, muitas vezes\, não produzimos a quantidade adequada e esse si
 stema endocanabinóide fica desregulado\, desequilibrado\, o que pode acar
 retar uma série de doenças.
 &nbsp\;
 Evento aberto ao público extern
 o.
LOCATION:Av. Gentil Bittencourt\, 1144.
DTSTART:20230615T170000Z
DTEND:20230615T190000Z
DTSTAMP:20230524T172017Z
ORGANIZER;CN=Portal de Eventos - Centro Universitário Fibra:MAILTO:eventos
 @fibrapara.edu.br
GEO:-1.455183;-48.482397
X-APPLE-STRUCTURED-LOCATION;VALUE=URI;X-ADDRESS=Av. Gentil Bittencourt\, 11
 44.;X-APPLE-RADIUS=72;X-TITLE=Centro Universitário Fibra:-1.455183;-48.48
 2397
END:VEVENT
END:VCALENDAR