BEGIN:VCALENDAR
VERSION:2.0
PRODID:Events Booking
BEGIN:VEVENT
UID:69e90233174c3
SUMMARY:Família Multiespécie
DESCRIPTION:&nbsp\; &nbsp\;Por definição\, a família multiespécie é aq
 uela formada pelo núcleo familiar humano em convivência compartilhada co
 m seus animais de estimação. As condições necessárias para que isso o
 corra é que os pets sejam considerados membros da família e que exista u
 m vínculo afetivo entre humanos e animais.Antigamente\, os animais eram v
 istos como utilidade para o ser humano: pastoreavam o gado\, guardavam a c
 asa\, caçavam ratos e protegiam as pessoas. Hoje\, a ideia de ter uma fam
 ília com pet\, em geral\, é desfrutar da companhia dele.&nbsp\; &nbsp\;A
 o decidir ter um pet em casa\, a família com cachorro ou gato quer oferec
 er a ele o melhor alimento e atenção possíveis\, a fim de garantir seu 
 bem-estar e que sua saúde não coloque em risco a saúde dos demais compo
 nentes da família\, sejam eles humanos ou não.&nbsp\; &nbsp\;Os cuidados
  oferecidos são os mesmos para os membros humanos da família\, com respe
 ito às suas necessidades. Porém muitas pessoas ainda não sabem diferenc
 iar cuidado de “humanização”.&nbsp\; &nbsp\;Conforme a teoria da bio
 filia\, elaborada pelo biólogo norte-americano Edward O. Wilson\, os huma
 nos desenvolvem uma afinidade inata com todos os seres vivos e existem par
 âmetros fisiológicos que indicam os benefícios do contato entre pessoas
  e animais. Por exemplo\, na presença de cães e gatos liberamos ocitocin
 a\, um hormônio relacionado ao prazer\, ao mesmo tempo que se reduz o ní
 vel de cortisol no sangue\, um indicador de estresse. Mas este não é o 
 único benefício para a saúde humana\, mostrando a importância de termo
 s os outros cursos da saúde participando deste evento.&nbsp\; &nbsp\;Alé
 m disso o Projeto de Lei 179\, de 2023 que tramita na Câmara dos Deputado
 s e versa sobre uma série de direitos que os animais de estimação têm 
 nas mais diversas situações a que estão sujeitos como membros de uma fa
 mília com animais. O direito mais importante assegurado por esse projeto 
 é o que dá garantia aos animais de estimação\, o acesso à defesa\, a 
 reparação de danos morais\, físicos ou existenciais\, pela justiça\, d
 e seus direitos individuais. Esta não é a única lei que protege os anim
 ais\, demonstrando também a importância da participação do curso de Di
 reito instruindo os alunos sobre este tema.
LOCATION:Av. Gentil Bittencourt\, 1144.
DTSTART:20240520T170000Z
DTEND:20240520T220000Z
DTSTAMP:20240416T220920Z
ORGANIZER;CN=Portal de Eventos - Centro Universitário Fibra:MAILTO:eventos
 @fibrapara.edu.br
GEO:-1.455183;-48.482397
X-APPLE-STRUCTURED-LOCATION;VALUE=URI;X-ADDRESS=Av. Gentil Bittencourt\, 11
 44.;X-APPLE-RADIUS=72;X-TITLE=Centro Universitário Fibra:-1.455183;-48.48
 2397
END:VEVENT
END:VCALENDAR