BEGIN:VCALENDAR
VERSION:2.0
PRODID:Events Booking
BEGIN:VEVENT
UID:69e932e988176
SUMMARY:Família Multiespécie - Direito
DESCRIPTION:Mesa redonda 3 – Direito:
 Medicina Veterinária – Mediado
 ra: Profª Giselle Couceiro
 Prof. Vicente Noronha Filho
 Profª Ana Lui
 za Leal (gravação sobre guarda compartilhada)
 Dr. Albeniz Neto\, Presi
 dente da Comissão de Defesa dos Direitos dos Animais
 Prof. Matheus Belt
 rão Oliveira e Silva
LOCATION:Av. Gentil Bittencourt\, 1144.
DTSTART:20240520T200000Z
DTEND:20240520T213000Z
DTSTAMP:20240416T220920Z
ORGANIZER;CN=Portal de Eventos - Centro Universitário Fibra:MAILTO:eventos
 @fibrapara.edu.br
GEO:-1.455183;-48.482397
X-APPLE-STRUCTURED-LOCATION;VALUE=URI;X-ADDRESS=Av. Gentil Bittencourt\, 11
 44.;X-APPLE-RADIUS=72;X-TITLE=Centro Universitário Fibra:-1.455183;-48.48
 2397
END:VEVENT
END:VCALENDAR