BEGIN:VCALENDAR
VERSION:2.0
PRODID:Events Booking
BEGIN:VEVENT
UID:69e9fe125848d
SUMMARY:Curso Avançado de Libras
DESCRIPTION:O Curso tem como objetivo desenvolver habilidades de inclusão 
 de surdos\, com estrutura bilíngue\, explorando os aspectos gramaticais d
 a Língua Brasileira de Sinais (LIBRAS) e as diversas situações comunica
 cionais do dia a dia. Possibilitará\, também\, o conhecimento da cultura
  surda\, a produção de materiais acessíveis (como planos de aulas em Li
 bras) e a melhor comunicação com o surdo. O curso é direcionado àquele
 s que já realizaram o Curso Básico de Libras (com certificação).
 Par
 a receber o certificado\, ao final do curso\, o aluno precisará ter feito
  sua inscrição em todos os módulos e ter frequência mínima de 75%.
 
 O curso só será realizado após&nbsp\;a inscrição de\, no mínimo\, 20
  alunos.
 Não é necessario efetuar o pagamento de todos os módulos do 
 curso no ato da inscrição. Todos os alunos podem realizar a inscrição 
 em cada módulo\, mensalmente\, antes do início deste.
 No primeiro dia 
 de aula\, deverá ser efetuado presencialmente o pagamento da taxa de mate
 rial: R$ 100\,00
 O curso acontecerá em todos os sábados\, a partir de 
 03/03/2024\, das 10:30 às 12:30\, exceto durante o mês de julho\, até o
  dia 26/10/2024.
 
LOCATION:Av. Gentil Bittencourt\, 1144.
DTSTART:20240203T113000Z
DTEND:20240326T133000Z
DTSTAMP:20240118T232702Z
ORGANIZER;CN=Portal de Eventos - Centro Universitário Fibra:MAILTO:eventos
 @fibrapara.edu.br
GEO:-1.455183;-48.482397
X-APPLE-STRUCTURED-LOCATION;VALUE=URI;X-ADDRESS=Av. Gentil Bittencourt\, 11
 44.;X-APPLE-RADIUS=72;X-TITLE=Centro Universitário Fibra:-1.455183;-48.48
 2397
END:VEVENT
END:VCALENDAR