BEGIN:VCALENDAR
VERSION:2.0
PRODID:Events Booking
BEGIN:VEVENT
UID:69e906fec5ca8
SUMMARY:Minicurso \"Exercícios Terapêuticos para a prevenção da dor lom
 bar crônica\"
DESCRIPTION:O minicurso&nbsp\;Exercícios Terapêuticos para a prevenção 
 da dor lombar crônica\, tem por finalidade mostrar exercícios terapêuti
 cos básicos para alívio da dor lombar\,&nbsp\;alinhando teoria à práti
 ca.
 Vestimenta: roupa de atividade física.
 Inscrição Solidária: 1k
 g de alimento não perecível.&nbsp\;
 Evento aberto ao público externo.
LOCATION:Av. Gentil Bittencourt\, 1144.
DTSTART:20230123T110000Z
DTEND:20230123T150000Z
DTSTAMP:20230110T182213Z
ORGANIZER;CN=Portal de Eventos - Centro Universitário Fibra:MAILTO:eventos
 @fibrapara.edu.br
GEO:-1.455183;-48.482397
X-APPLE-STRUCTURED-LOCATION;VALUE=URI;X-ADDRESS=Av. Gentil Bittencourt\, 11
 44.;X-APPLE-RADIUS=72;X-TITLE=Centro Universitário Fibra:-1.455183;-48.48
 2397
END:VEVENT
END:VCALENDAR