BEGIN:VCALENDAR
VERSION:2.0
PRODID:Events Booking
BEGIN:VEVENT
UID:69e9064c69001
SUMMARY:Minicurso \"Exercício aeróbio na reabilitação: Como prescrever?
 \"
DESCRIPTION:O minicurso \"Exercício aeróbio na reabilitação\, como pres
 crever?\" tem como propósito mostrar e orientar o momento certo de indica
 r a modalidade durante o tratamento\, alinhando teoria à prática.
 Vest
 imenta: roupa de atividade física.
 Inscrição Solidária: 1kg de alime
 nto não perecível.&nbsp\;
 Evento aberto ao público externo.
 &nbsp\;
LOCATION:Av. Gentil Bittencourt\, 1144.
DTSTART:20230116T110000Z
DTEND:20230116T150000Z
DTSTAMP:20230110T180852Z
ORGANIZER;CN=Portal de Eventos - Centro Universitário Fibra:MAILTO:eventos
 @fibrapara.edu.br
GEO:-1.455183;-48.482397
X-APPLE-STRUCTURED-LOCATION;VALUE=URI;X-ADDRESS=Av. Gentil Bittencourt\, 11
 44.;X-APPLE-RADIUS=72;X-TITLE=Centro Universitário Fibra:-1.455183;-48.48
 2397
END:VEVENT
END:VCALENDAR