BEGIN:VCALENDAR
VERSION:2.0
PRODID:Events Booking
BEGIN:VEVENT
UID:69e9eae0c54e7
SUMMARY:Excelência no Atendimento e Vendas
DESCRIPTION:O curso tem como objetivo potencializar o aumento de performanc
 e pessoal no atendimento e vendas\, além de\, proporcionar benefícios co
 mo: Identificar competências e qualidades pessoais\; aumentar a motivaç
 ão pessoal para desenvolver o relacionamento interpessoal\; incentivar o 
 atendimento humanizado\; minimizar as objeções nas vendas\; entender o q
 ue é atendimento ao público e trabalhar técnicas e organização de ate
 ndimentos e vendas eficientes
 &nbsp\;
 O curso somente será ofertado s
 e for alcançado o preenchimento mínimo de 15 inscrições.
 &nbsp\;
 E
 vento aberto ao público externo.
LOCATION:Av. Gentil Bittencourt\, 1144.
DTSTART:20230325T110000Z
DTEND:20230325T150000Z
DTSTAMP:20230313T235840Z
ORGANIZER;CN=Portal de Eventos - Centro Universitário Fibra:MAILTO:eventos
 @fibrapara.edu.br
GEO:-1.455183;-48.482397
X-APPLE-STRUCTURED-LOCATION;VALUE=URI;X-ADDRESS=Av. Gentil Bittencourt\, 11
 44.;X-APPLE-RADIUS=72;X-TITLE=Centro Universitário Fibra:-1.455183;-48.48
 2397
END:VEVENT
END:VCALENDAR