BEGIN:VCALENDAR
VERSION:2.0
PRODID:Events Booking
BEGIN:VEVENT
UID:69ea3e033a7ac
SUMMARY:Escritório Jurídico 4.0: Automações Humanizadas no Atendimento 
 nas Ações de Família
DESCRIPTION:
LOCATION:Av. Gentil Bittencourt\, 1144.
DTSTART:20251022T180000Z
DTEND:20251022T200000Z
DTSTAMP:20250930T192350Z
ORGANIZER;CN=Portal de Eventos - Centro Universitário Fibra:MAILTO:eventos
 @fibrapara.edu.br
GEO:-1.455183;-48.482397
X-APPLE-STRUCTURED-LOCATION;VALUE=URI;X-ADDRESS=Av. Gentil Bittencourt\, 11
 44.;X-APPLE-RADIUS=72;X-TITLE=Centro Universitário Fibra:-1.455183;-48.48
 2397
END:VEVENT
END:VCALENDAR