BEGIN:VCALENDAR
VERSION:2.0
PRODID:Events Booking
BEGIN:VEVENT
UID:69e9eb15a97eb
SUMMARY:Curso \"Consulta de enfermagem no pré-natal: Principais condutas\"
DESCRIPTION:A atuação do enfermeiro na área de saúde da mulher\, especi
 ficamente no período da gestação e do parto tem ganhado destaque\, send
 o a atuação desse profissional incentivada pela Organização Mundial de
  Saúde\, portanto é fundamental que os acadêmicos de enfermagem conheç
 am o papel do enfermeiro nessa área\, bem como as práticas recomendadas 
 durante esse período. Destaca-se que a atuação do enfermeiro nesse per
 íodo é ampla\, podendo atuar em serviços públicos\, privados e até me
 smo empreender nessa área. Um profissional capacitado para atuar nesse pe
 ríodo\, contribui para que as mulheres vivenciem essa fase tão marcante 
 de forma saudável e positiva\, assim como para a redução da morbimortal
 idade materna que apresenta números expressivos em nossa região.
 Os pa
 rticipantes desse curso conhecerão as principais condutas recomendadas pe
 lo Ministério da Saúde no pré-natal\, serão estimulados a desenvolver 
 o julgamento clínico para atuar de forma adequada nesse período\, e tamb
 ém para atuar de forma ética e humanizada.
 Evento aberto ao público e
 xterno.
LOCATION:Av. Gentil Bittencourt\, 1144.
DTSTART:20230415T110000Z
DTEND:20230415T160000Z
DTSTAMP:20230111T212916Z
ORGANIZER;CN=Portal de Eventos - Centro Universitário Fibra:MAILTO:eventos
 @fibrapara.edu.br
GEO:-1.455183;-48.482397
X-APPLE-STRUCTURED-LOCATION;VALUE=URI;X-ADDRESS=Av. Gentil Bittencourt\, 11
 44.;X-APPLE-RADIUS=72;X-TITLE=Centro Universitário Fibra:-1.455183;-48.48
 2397
END:VEVENT
END:VCALENDAR