BEGIN:VCALENDAR
VERSION:2.0
PRODID:Events Booking
BEGIN:VEVENT
UID:69e9ff2b485b9
SUMMARY:Cuidados de enfermagem com sondas\, tubos e drenos: teórico e prá
 tico
DESCRIPTION:Público alvo: Profissionais de saúde e estudantes da área.

  Importante: Trazer jaleco
 &nbsp\;
 O curso iniciará com pelo menos 20
  inscritos.
 &nbsp\;
 
LOCATION:Av. Gentil Bittencourt\, 1144.
DTSTART:20240406T110000Z
DTEND:20240406T160000Z
DTSTAMP:20240222T211511Z
ORGANIZER;CN=Portal de Eventos - Centro Universitário Fibra:MAILTO:eventos
 @fibrapara.edu.br
GEO:-1.455183;-48.482397
X-APPLE-STRUCTURED-LOCATION;VALUE=URI;X-ADDRESS=Av. Gentil Bittencourt\, 11
 44.;X-APPLE-RADIUS=72;X-TITLE=Centro Universitário Fibra:-1.455183;-48.48
 2397
END:VEVENT
END:VCALENDAR