BEGIN:VCALENDAR
VERSION:2.0
PRODID:Events Booking
BEGIN:VEVENT
UID:69e9465e0ae05
SUMMARY:VIII Encontro De Literatura Amazônica
DESCRIPTION:Tema: “Lendas e Mitos: Diálogos Anglo-Amazônicos”
LOCATION:Av. Gentil Bittencourt\, 1144.
DTSTART:20221027T210000Z
DTEND:20221028T010000Z
DTSTAMP:20221020T232329Z
ORGANIZER;CN=Portal de Eventos - Centro Universitário Fibra:MAILTO:eventos
 @fibrapara.edu.br
GEO:-1.455183;-48.482397
X-APPLE-STRUCTURED-LOCATION;VALUE=URI;X-ADDRESS=Av. Gentil Bittencourt\, 11
 44.;X-APPLE-RADIUS=72;X-TITLE=Centro Universitário Fibra:-1.455183;-48.48
 2397
END:VEVENT
END:VCALENDAR