BEGIN:VCALENDAR
VERSION:2.0
PRODID:Events Booking
BEGIN:VEVENT
UID:69e9fef7792eb
SUMMARY:ENCONTRO DAS CLÍNICAS EM PSICOLOGIA: PENSANDO A FORMAÇÃO A PARTI
 R DO ESTÁGIO EM PSICOLOGIA CLÍNICA
DESCRIPTION:PROGRAMAÇÃO
 MANHÃ
 Hora: 8:30 às 9h. – AberturaConvida
 dos:- Guilherme Wady. Psicólogo. Prof. Dr.\, Coordenador do Curso de Psic
 ologia – Fibra)- Ana Lúcia Silva. Psicóloga. Profa. Dra.\, Referência
  Técnica do Serviço-Escola de Psicologia – Fibra)
 Hora: 9 às 10:30h
 .Importância da Notificação de casos de tentativa de suicídioConvidada
 s:- Eluana Costa Carvalho. Psicóloga. Mestranda no PPGP (UFPA). Referênc
 ia Técnica em Saúde Mental (SESMA)- Vera Lúcia Fonseca de Souza. Psicó
 loga. Mestra. Coordenação Estadual de Saúde Mental\, Álcool e Outras D
 rogas (SESPA)
 INTERVALO: 10:30 às 10:45h.
 Hora: 10:45 às 12:00h.Impo
 rtância da Notificação de casos de violência contra crianças e adoles
 centes- Maíra de Maria Pires Ferraz. Psicóloga. Profa. Mestra da Univers
 idade da Amazônia (UNAMA).
 TARDE
 Hora: 14 às 14:30H- Aspectos ético
 s em Estágio em Serviço-Escola de PsicologiaConvidado: Conselho Regional
  de Psicologia (CRP-10)
 Hora: 14:30 às 17h.
 - Aspectos relevantes à 
 prática profissional em Serviço-Escola de PsicologiaConvidados:- Yuri Le
 andro do Carmo de Souza. Psicólogo. Prof. Mestre. Coordenador Acadêmico 
 da Clínica de Psicologia da UFPA.- Patrícia do Socorro Nunes Pereira Lim
 a. Psicóloga e Psicanalista. Profa. Mestra. Coordenadora do Plantão Psic
 ológico (UNAMA)- Maria Eline Ferreira Pereira. Profa. Mestra. Coordenador
 a do Curso de Psicologia (UNIESAMAZ)- Kamilly Souza do Vale. Psicóloga. P
 rofa. Dra. Supervisora do Estágio Clínico com ênfase em Gestalt-terapia
  (Clínica-Escola da UFPA).- Amanda Gabriele Oliveira de Medeiros. Psicól
 oga. Profa. Referência Técnica do Serviço-Escola de Psicologia (CESUPA)
 .
 
LOCATION:Av. Gentil Bittencourt\, 1144.
DTSTART:20250804T113000Z
DTEND:20250804T200000Z
DTSTAMP:20250731T180035Z
ORGANIZER;CN=Portal de Eventos - Centro Universitário Fibra:MAILTO:eventos
 @fibrapara.edu.br
GEO:-1.455183;-48.482397
X-APPLE-STRUCTURED-LOCATION;VALUE=URI;X-ADDRESS=Av. Gentil Bittencourt\, 11
 44.;X-APPLE-RADIUS=72;X-TITLE=Centro Universitário Fibra:-1.455183;-48.48
 2397
END:VEVENT
END:VCALENDAR