BEGIN:VCALENDAR
VERSION:2.0
PRODID:Events Booking
BEGIN:VEVENT
UID:69e9ff270dfbd
SUMMARY:EMERGÊNCIAS CLÍNICAS
DESCRIPTION:EMERGÊNCIAS CLÍNICAS: EDEMA AGUDO DE PULMÃO E INFARTO AGUDO 
 DO MIOCÁRDIO - ASSISTÊNCIA DE ENFERMAGEM
 Objetivos do curso: O objetiv
 o do curso é&nbsp\;capacitar acadêmicos e profissionais de enfermagem na
  assistência ao paciente com Edema Agudo de Pulmão e Infarto Agudo do Mi
 ocárdio em situações de urgência e emergência com foto na área de ur
 gência e emergência e UTI.
 Público alvo: Acadêmicos e profissionais 
 de enfermagem
 Conteúdo do Curso:Anatomia cardiorrespiratória e fisiopa
 tologia básica do Edema agudo depulmão (EAP) e Infarto Agudo do Miocárd
 io (IAM)\;Principais causas de EAP e IAM\;Sinais e sintomas clínicos de E
 AP e IAM\;Assistência da equipe de enfermagem ao paciente com EAP e IAM.P
 rática com simulação realista.
 
DTSTART:20250315T110000Z
DTEND:20250315T190000Z
DTSTAMP:20250219T023255Z
ORGANIZER;CN=Portal de Eventos - Centro Universitário Fibra:MAILTO:eventos
 @fibrapara.edu.br
END:VEVENT
END:VCALENDAR